BEGIN:VCALENDAR
VERSION:2.0
PRODID:-//Fédération des Associations Françaises en Argentine - ECPv6.15.20//NONSGML v1.0//EN
CALSCALE:GREGORIAN
METHOD:PUBLISH
X-WR-CALNAME:Fédération des Associations Françaises en Argentine
X-ORIGINAL-URL:https://federationdesassociations.com
X-WR-CALDESC:Évènements pour Fédération des Associations Françaises en Argentine
REFRESH-INTERVAL;VALUE=DURATION:PT1H
X-Robots-Tag:noindex
X-PUBLISHED-TTL:PT1H
BEGIN:VTIMEZONE
TZID:America/Sao_Paulo
BEGIN:STANDARD
TZOFFSETFROM:-0300
TZOFFSETTO:-0300
TZNAME:-03
DTSTART:20240101T000000
END:STANDARD
END:VTIMEZONE
BEGIN:VEVENT
DTSTART;TZID=America/Sao_Paulo:20250927T130000
DTEND;TZID=America/Sao_Paulo:20250927T180000
DTSTAMP:20260422T144809
CREATED:20250827T152314Z
LAST-MODIFIED:20250827T152314Z
UID:3137-1758978000-1758996000@federationdesassociations.com
SUMMARY:FORUM DES ASSOCIATIONS
DESCRIPTION:✨ Un rendez-vous incontournable | Una cita imperdible ✨\n📅 Samedi 27 septembre 2025 | Sábado 27 de septiembre 2025 \n🇫🇷 FR\nLe Forum de la Fédération des Associations sera une journée riche et inspirante :\n🔹 Le matin : ateliers et tables rondes pour renforcer la coopération entre associations et explorer les services de la FAFA.\n🔹 L’après-midi : conférences et panels ouverts à tous\, autour de thèmes passionnants — innovation\, culture\, économie\, communauté.\n🔹 Et bien sûr… des surprises que vous ne voudrez pas manquer 😉\n📍 Lycée Jean Mermoz\, CABA\n🕐 À partir de 13h\n👉 Réservez la date et rejoignez-nous pour partager\, apprendre et créer ensemble l’avenir de notre communauté franco-argentine. \n🇦🇷 ES\nEl Forum de la Federación de Asociaciones será un día lleno de inspiración y comunidad:\n🔹 Por la mañana: talleres y mesas redondas para fortalecer la cooperación entre asociaciones y conocer los servicios de la FAFA.\n🔹 Por la tarde: conferencias y paneles abiertos a todos\, sobre innovación\, cultura\, economía y vida comunitaria.\n🔹 Y por supuesto… ¡sorpresas que no querrás perderte! 😉\n📍 Lycée Jean Mermoz\, CABA\n🕐 Desde las 13:00 hs\n👉 Reservá la fecha y vení a compartir\, aprender y construir juntos el futuro de la comunidad franco-argentina. \n#FAFA #Forum2025 #Associations #Innovación #Innovation #Networking #Communauté Voir moins
URL:https://federationdesassociations.com/event/forum-des-associations/
LOCATION:Lycée Jean Mermoz\, Ramsay 2131\, Ciudad de Buenos Aires\, Ciudad de Buenos Aires\, 1428\, Argentina
CATEGORIES:Professionel,Social
ATTACH;FMTTYPE=image/png:https://federationdesassociations.com/wp-content/uploads/2025/08/FAFA_Forum_Invite_1200x630-1.png
ORGANIZER;CN="F%C3%A9d%C3%A9ration des Assocations Francaises en Argentine":MAILTO:bonjour@federationdesassociations.com
END:VEVENT
BEGIN:VEVENT
DTSTART;TZID=America/Sao_Paulo:20250823T113000
DTEND;TZID=America/Sao_Paulo:20250823T123000
DTSTAMP:20260422T144809
CREATED:20250820T183936Z
LAST-MODIFIED:20250820T183936Z
UID:3106-1755948600-1755952200@federationdesassociations.com
SUMMARY:Conférence Jacques de Liniers
DESCRIPTION:Le Samedi 23 août à 11:30\, nous recevrons les membres de l’association de l’ “Instituto histórico Santiago de Liniers” au siège de l’Association des Anciens Combattants (Santiago del Estero\, 1453\, Caba) pour un hommage à cet homme hors du commun né en France et devenu personnage historique en Argentine.
URL:https://federationdesassociations.com/event/conference-jacques-de-liniers/
LOCATION:Ciudad de Buenos Aires
CATEGORIES:Culturel
ATTACH;FMTTYPE=image/jpeg:https://federationdesassociations.com/wp-content/uploads/2025/08/Liniers-2.jpg
END:VEVENT
BEGIN:VEVENT
DTSTART;TZID=America/Sao_Paulo:20250712T100000
DTEND;TZID=America/Sao_Paulo:20250712T120000
DTSTAMP:20260422T144809
CREATED:20250820T183948Z
LAST-MODIFIED:20250820T183948Z
UID:3099-1752314400-1752321600@federationdesassociations.com
SUMMARY:"LA CHANSON RÉALISTE\, d'Aristide Bruant à la môme Piaf
DESCRIPTION:Samedi 12 juillet on se reverra au Club Français pour notre dernière rencontre autour de “LA CHANSON RÉALISTE\, d’Aristide Bruant à la môme Piaf”\, dans le cadre du cycle “CALAF- Francophonie en chansons”. \nUne formule café/thé/ viennoiserie est comprise.\nCoordination générale: Alex Dionesalvi.\nDurée: 2 heures \nRéservation obligatoire. Contribution aux frais: $8.500.-\nAu Club Francés. Rodriguez Peña 1832 Buenos Aires.\n———————————————\nRÉSERVATIONS: Message whatsapp: +5491153873853\nMél: calaf.arg@gmail.com\n——————————————— \nLe CALAF organise ses activités gratuitement. Nous demandons uniquement une contribution pour les frais d’organisation/matériel ou pour couvrir le coût de la consommation qui fait partie de chaque proposition. \n  \nCALAF – Cercle des Amis de la Langue Française et de la Francophonie- Argentine \nRéseau francophone FAM- CALAF
URL:https://federationdesassociations.com/event/la-chanson-realiste-daristide-bruant-a-la-mome-piaf-2/
LOCATION:Club Francés\, Rodriguez Peña 1832\, Buenos Aires\, CABA\, 1021\, Argentina
CATEGORIES:Culturel
ATTACH;FMTTYPE=image/jpeg:https://federationdesassociations.com/wp-content/uploads/2025/07/CHANSON-REALISTE.jpg
ORGANIZER;CN="CALAF Cercle des Amis de la Langue Fran%C3%A7aise et de la Francophonie":MAILTO:calaf.arg@gmail.com
END:VEVENT
BEGIN:VEVENT
DTSTART;TZID=America/Sao_Paulo:20250619T120000
DTEND;TZID=America/Sao_Paulo:20250619T130000
DTSTAMP:20260422T144809
CREATED:20250618T132142Z
LAST-MODIFIED:20250618T132142Z
UID:3084-1750334400-1750338000@federationdesassociations.com
SUMMARY:La société de la légion d'honneur en Argentine
DESCRIPTION:Ce jeudi de 12 heures à 13 heures\, nous recevrons dans notre émission de radio mensuelle\, M. Carlos Fernandez\, secrétaire de la société de la légion d’honneur en Argentine. A cette occasion\, nous serons accompagnés de Mme Mathilde Hagobian pour le journal le Trait d’Union\, journal francophone des Français d’Argentine.
URL:https://federationdesassociations.com/event/la-societe-de-la-legion-dhonneur-en-argentine/
LOCATION:Radio signos 92.5\, Munro\, Buenos Aires\, Argentina
CATEGORIES:Culturel
ATTACH;FMTTYPE=image/png:https://federationdesassociations.com/wp-content/uploads/2025/06/Legion-dhonneur.png
END:VEVENT
BEGIN:VEVENT
DTSTART;VALUE=DATE:20250610
DTEND;VALUE=DATE:20250611
DTSTAMP:20260422T144809
CREATED:20250610T134942Z
LAST-MODIFIED:20250610T134942Z
UID:3079-1749513600-1749599999@federationdesassociations.com
SUMMARY:Emission de radio avec des membres de la colonie savoyarde de San José
DESCRIPTION:Avec deux représentants de la communauté savoyarde de San José (Entre Rios)\, nous avons évoqué l’histoire passionnante de cette communauté et tout ce qui est fait pour conserver son souvenir et faire vivre dans le présent son originalité. \nA écouter en cliquant le lien suivant: https://fdmadfe-conesud.over-blog.com/2025/05/la-colonie-savoyarde-sur-radio-signos-92.5.html
URL:https://federationdesassociations.com/event/emission-de-radio-avec-des-membres-de-la-colonie-savoyarde-de-san-jose/
LOCATION:Radio signos 92.5\, Munro\, Buenos Aires\, Argentina
CATEGORIES:Culturel
ATTACH;FMTTYPE=image/jpeg:https://federationdesassociations.com/wp-content/uploads/2025/06/Emission-radio-Savoyards.jpg
END:VEVENT
BEGIN:VEVENT
DTSTART;TZID=America/Sao_Paulo:20250524T100000
DTEND;TZID=America/Sao_Paulo:20250524T120000
DTSTAMP:20260422T144809
CREATED:20250508T144455Z
LAST-MODIFIED:20250508T144455Z
UID:3057-1748080800-1748088000@federationdesassociations.com
SUMMARY:LA CHANSON RÉALISTE\, d'Aristide Bruant à la môme Piaf  - 4è réunion
DESCRIPTION:CALAF- Cycle Francophonie en chansons: “LA CHANSON RÉALISTE”. On se réunit deux fois par mois  pour aborder ce sujet à travers des oeuvres choisies\, dans le cadre d’un espace convivial. Une formule café/thé/ viennoiserie est comprise. Coordination générale: Alex Dionesalvi. Durée: 2 heures\nRéservation obligatoire. Places limitées.\nContribution aux frais: $7.500.-\nAu Club Francés. Rodriguez Peña 1832 Buenos Aires. \nRÉSERVATIONS: Message whatsapp: +5491153873853\nMél: calaf.arg@gmail.com \nLe CALAF organise ses activités gratuitement. Nous demandons uniquement une contribution pour les frais d’organisation/matériel ou pour couvrir le coût de la consummation qui fait partie de chaque proposition. \n 
URL:https://federationdesassociations.com/event/la-chanson-realiste-daristide-bruant-a-la-mome-piaf-4e-reunion/
LOCATION:Club Francés\, Rodriguez Peña 1832\, Buenos Aires\, CABA\, 1021\, Argentina
CATEGORIES:Culturel
ATTACH;FMTTYPE=image/jpeg:https://federationdesassociations.com/wp-content/uploads/2025/05/CHANSON-REALISTE-1.jpg
ORGANIZER;CN="CALAF Cercle des Amis de la Langue Fran%C3%A7aise et de la Francophonie":MAILTO:calaf.arg@gmail.com
END:VEVENT
BEGIN:VEVENT
DTSTART;TZID=America/Sao_Paulo:20250523T190000
DTEND;TZID=America/Sao_Paulo:20250523T203000
DTSTAMP:20260422T144809
CREATED:20250508T144505Z
LAST-MODIFIED:20250508T144505Z
UID:3050-1748026800-1748032200@federationdesassociations.com
SUMMARY:APÉRO CALAF
DESCRIPTION:Viens activer ton français autour d’un verre!\nUn invité\, un tout petit exposé et un endroit différent à chaque rencontre… c’est le point de départ pour un échange convivial dans un bar porteño\, à l’heure de l’apéritif.\nTu aimerais nous réjoindre?\nActivité gratuite après confirmation de réservation- Consomation à charge de chaque participant. Durée: 1H30\nCAFÉ “PETIT COLÓN”\nLibertad 505- Salle sous-sol- Buenos Aires \nRÉSERVATIONS: Message whatsapp: +5491153873853\nMél: calaf.arg@gmail.com \n 
URL:https://federationdesassociations.com/event/apero-calaf-2/
LOCATION:CAFÉ PETIT COLÓN\, Libertad 505\, Buenos Aires\, CABA\, 1012\, Argentina
CATEGORIES:Culturel
ATTACH;FMTTYPE=image/jpeg:https://federationdesassociations.com/wp-content/uploads/2025/05/apero-calaf.jpg
ORGANIZER;CN="CALAF Cercle des Amis de la Langue Fran%C3%A7aise et de la Francophonie":MAILTO:calaf.arg@gmail.com
END:VEVENT
BEGIN:VEVENT
DTSTART;TZID=America/Sao_Paulo:20250522T120000
DTEND;TZID=America/Sao_Paulo:20250522T130000
DTSTAMP:20260422T144809
CREATED:20250603T130425Z
LAST-MODIFIED:20250603T130425Z
UID:3068-1747915200-1747918800@federationdesassociations.com
SUMMARY:Interview avec les membres de la communauté savoyarde de San José ( Entre Rios)
DESCRIPTION:Jeudi 22 mai\, de 12h00 à 13h00\, nous recevrons Natalia Cecilia Benítez  et Hugo Martín\, membres tous les deux de l’Association savoyarde de San José (Entre Ríos). Nous évoquerons l’histoire de ce courant migratoire venu des Alpes dans la seconde moitié du XIXème siècle pour s’installer dans la province d’Entre Ríos et toutes les actions déployées par les descendants de ces migrants afin conserver des liens avec leurs origines et leurs ancêtres. \nEl jueves 22 de mayo\, de 12:00 a 13:00 horas\, recibiremos a Natalia Cecilia Benítez y Hugo Martín\, ambos miembros de la Asociación Saboyana de San José (Entre Ríos). Hablaremos sobre la historia de este movimiento migratorio que llegó desde los Alpes en la segunda mitad del siglo XIX para instalarse en la provincia de Entre Ríos\, y todas las acciones realizadas por los descendientes de estos migrantes para mantener los vínculos con sus orígenes y sus antepasados. \n 
URL:https://federationdesassociations.com/event/interview-avec-les-membres-de-la-communaute-savoyarde-de-san-jose-entre-rios/
LOCATION:Radio signos 92.5\, Munro\, Buenos Aires\, Argentina
CATEGORIES:Culturel
ATTACH;FMTTYPE=image/jpeg:https://federationdesassociations.com/wp-content/uploads/2025/05/Emission-radio-Savoyards.jpg
END:VEVENT
BEGIN:VEVENT
DTSTART;TZID=America/Sao_Paulo:20250517T100000
DTEND;TZID=America/Sao_Paulo:20250517T120000
DTSTAMP:20260422T144809
CREATED:20250508T144513Z
LAST-MODIFIED:20250508T144513Z
UID:3044-1747476000-1747483200@federationdesassociations.com
SUMMARY:"Mon Buenos Aires parisien" (promenade)
DESCRIPTION:-Samedi 17 mai à 10H\n“Mon Buenos Aires parisien (nouveau parcours).\nUne promenade porteña en français avec Marcela Clot.\n“Entre le Club Français et Plaza Francia”\nActivité gratuite avec réservation obligatoire. Places limitées. \nRÉSERVATIONS: Message whatsapp: +5491153873853\nMél: calaf.arg@gmail.com \n 
URL:https://federationdesassociations.com/event/mon-buenos-aires-parisien-promenade/
LOCATION:Club Francés\, Rodriguez Peña 1832\, Buenos Aires\, CABA\, 1021\, Argentina
CATEGORIES:Culturel
ATTACH;FMTTYPE=image/jpeg:https://federationdesassociations.com/wp-content/uploads/2025/05/promenade-mayo-2025.jpg
ORGANIZER;CN="CALAF Cercle des Amis de la Langue Fran%C3%A7aise et de la Francophonie":MAILTO:calaf.arg@gmail.com
END:VEVENT
BEGIN:VEVENT
DTSTART;TZID=America/Sao_Paulo:20250510T100000
DTEND;TZID=America/Sao_Paulo:20250510T120000
DTSTAMP:20260422T144809
CREATED:20250508T144523Z
LAST-MODIFIED:20250508T144523Z
UID:3038-1746871200-1746878400@federationdesassociations.com
SUMMARY:LA CHANSON RÉALISTE\, d'Aristide Bruant à la môme Piaf  - 3è réunion
DESCRIPTION:CALAF- Cycle Francophonie en chansons: “LA CHANSON RÉALISTE”. On se réunit deux fois par mois (avril/juillet) pour aborder ce sujet à travers des oeuvres choisies\, dans le cadre d’un espace convivial. Une formule café/thé/ viennoiserie est comprise. Coordination générale: Alex Dionesalvi. Durée: 2 heures\nRéservation obligatoire. Places limitées.\nContribution aux frais: $7.500.-\nAu Club Francés. Rodriguez Peña 1832 Buenos Aires. \nRÉSERVATIONS: Message whatsapp: +5491153873853\nMél: calaf.arg@gmail.com
URL:https://federationdesassociations.com/event/la-chanson-realiste-daristide-bruant-a-la-mome-piaf-3e-reunion/
LOCATION:Club Francés\, Rodriguez Peña 1832\, Buenos Aires\, CABA\, 1021\, Argentina
CATEGORIES:Culturel
ATTACH;FMTTYPE=image/jpeg:https://federationdesassociations.com/wp-content/uploads/2025/05/CHANSON-REALISTE.jpg
ORGANIZER;CN="CALAF Cercle des Amis de la Langue Fran%C3%A7aise et de la Francophonie":MAILTO:calaf.arg@gmail.com
END:VEVENT
BEGIN:VEVENT
DTSTART;TZID=America/Sao_Paulo:20250414T190000
DTEND;TZID=America/Sao_Paulo:20250414T200000
DTSTAMP:20260422T144809
CREATED:20250403T123129Z
LAST-MODIFIED:20250403T123129Z
UID:3026-1744657200-1744660800@federationdesassociations.com
SUMMARY:RENTRÉE DES POÈTES (activité virtuelle)
DESCRIPTION:RENTRÉE DES POÈTES – activité virtuelle- Lecture de poèmes en farandole. Activité animée par María Marta Escalante. Places limitées. Activité gratuite après confirmation de reservation. Durée: 1 heure \nRéservations: Whatsapp: +54 911 5387 3853 – Mél: calaf.arg@gmail.com \nCALAF- Cercle des Amis de la Langue Française et de la Francophonie -Argentine- \nLe CALAF Argentine organise ses activités gratuitement. On demande uniquement une contribution pour les frais d’organisation/matériel ou pour couvrir le coût de la consommation qui fait partie de chaque proposition. \n 
URL:https://federationdesassociations.com/event/rentree-des-poetes-activite-virtuelle/
LOCATION:Ciudad de Buenos Aires
CATEGORIES:Culturel
ATTACH;FMTTYPE=image/jpeg:https://federationdesassociations.com/wp-content/uploads/2025/04/rentree2025.jpg
ORGANIZER;CN="CALAF":MAILTO:calaf.arg@gmail.com
END:VEVENT
BEGIN:VEVENT
DTSTART;TZID=America/Sao_Paulo:20250412T100000
DTEND;TZID=America/Sao_Paulo:20250412T120000
DTSTAMP:20260422T144809
CREATED:20250403T123138Z
LAST-MODIFIED:20250403T123138Z
UID:3019-1744452000-1744459200@federationdesassociations.com
SUMMARY:LA CHANSON RÉALISTE\, d'Aristide Bruant à la môme Piaf
DESCRIPTION:CYCLE FRANCOPHONIE EN CHANSONS: LA CHANSON RÉALISTE\, d’Aristide Bruant à la môme Piaf. On se réunira deux fois par mois (avril/juillet) pour aborder ce sujet à travers des oeuvres choisies\, dans le cadre d’un espace convivial. Une formule café/thé/ viennoiserie est comprise. Coordination générale: Alex Dionesalvi. \nDurée: 2 heures. Réservation obligatoire. Contribution aux frais: $7.500.- \nAu Club Francés. Rodriguez Peña 1832 Buenos Aires. \nRéservations: Whatsapp: +54 911 5387 3853 – Mél: calaf.arg@gmail.com
URL:https://federationdesassociations.com/event/la-chanson-realiste-daristide-bruant-a-la-mome-piaf/
LOCATION:Club Francés\, Rodriguez Peña 1832\, Buenos Aires\, CABA\, 1021\, Argentina
CATEGORIES:Culturel
ATTACH;FMTTYPE=image/jpeg:https://federationdesassociations.com/wp-content/uploads/2025/04/CHANSON-REALISTE.jpg
ORGANIZER;CN="CALAF":MAILTO:calaf.arg@gmail.com
END:VEVENT
BEGIN:VEVENT
DTSTART;TZID=America/Sao_Paulo:20250404T190000
DTEND;TZID=America/Sao_Paulo:20250404T203000
DTSTAMP:20260422T144809
CREATED:20250401T125350Z
LAST-MODIFIED:20250401T125350Z
UID:3003-1743793200-1743798600@federationdesassociations.com
SUMMARY:APÉRO CALAF
DESCRIPTION:RENTRÉE 2025\nAPÉRO CALAF \nCALAF-  Cercle des Amis de la Langue Française et de la Francophonie \nViens activer ton français autour d’un verre.\nUn invité\, un tout petit exposé et un endroit différent à chaque rencontre… c’est le point de départ pour un échange convivial dans un bar porteño\, à l’heure de l’apéritif.\nTu aimerais nous réjoindre?\nActivité gratuite après confirmation de réservation- Consomation à charge de chaque participant. Durée: 1H30\nGABÁN Café Bike Bar – Arroyo 889 (esquina Suipacha) – Buenos Aires \n—————————————————————-\nRÉSERVATIONS: Message whatsapp: +5491153873853\nMél: calaf.arg@gmail.com\n—————————————————————-\nLe CALAF Cercle des Amis de la Langue Française et de la Francophonie organise ses activités gratuitement. Nous demandons uniquement une contribution pour les frais d’organisation/matériel ou pour couvrir le coût de la consummation qui fait partie de chaque proposition. \nMerci beaucoup\nBureau CALAF
URL:https://federationdesassociations.com/event/apero-calaf/
LOCATION:GABÁN Café Bike Bar\, Arroyo 889 (esquina Suipacha)\, Buenos Aires\, 1007\, Argentina
CATEGORIES:Culturel
ATTACH;FMTTYPE=image/jpeg:https://federationdesassociations.com/wp-content/uploads/2025/03/apero-calaf.jpg
END:VEVENT
BEGIN:VEVENT
DTSTART;TZID=America/Sao_Paulo:20250227T190000
DTEND;TZID=America/Sao_Paulo:20250227T193000
DTSTAMP:20260422T144809
CREATED:20250410T170034Z
LAST-MODIFIED:20250401T125458Z
UID:2945-1740682800-1740684600@federationdesassociations.com
SUMMARY:Webinar : Comment utiliser le calendrier partagé de la Fédération ?
DESCRIPTION:Join Zoom Meeting\nhttps://us04web.zoom.us/j/75940729499?pwd=7TJk3TsqMNC2rkSXka6YtOa0N6V9iO.1 \nMeeting ID: 759 4072 9499\nPasscode: 4jXRL9
URL:https://federationdesassociations.com/event/webinar-comment-utiliser-le-calendrier-partage-de-la-federation/
LOCATION:Ciudad de Buenos Aires
CATEGORIES:Education
ATTACH;FMTTYPE=image/png:https://federationdesassociations.com/wp-content/uploads/2025/02/FAFA-promo-3.png
ORGANIZER;CN="F%C3%A9d%C3%A9ration des Assocations Francaises en Argentine":MAILTO:bonjour@federationdesassociations.com
END:VEVENT
END:VCALENDAR